BEGIN:VCALENDAR
VERSION:2.0
PRODID:-//TYPO3/NONSGML Calendarize//EN


BEGIN:VEVENT
UID:calendarize-2-latvijas-kliniskas-barosanas-konference
DTSTAMP:20260420T081803Z

DTSTART:20260424T063000Z
DTEND:20260424T150000Z
    
SUMMARY:2. Latvijas Klīniskās barošanas konference
DESCRIPTION:Klīniskā barošana: multidisciplināra pieeja pacientu aprūpē Latvijā\nPar konferenci\nKonference veltīta klīniskās barošanas nozīmei mūsdienu pacientu aprūpē\, apvienojot ārstus\, māsas\, akadēmisko vidi un nozares partnerus kopīgai diskusijai par praksi\, inovācijām un sistēmisku sadarbību Latvijā.Vairāk informācijas
X-ALT-DESC;FMTTYPE=text/html:<p>Klīniskā barošana: multidisciplināra pieeja pacientu aprūpē Latvijā</p>\n<h3><strong>Par konferenci</strong></h3>\n<p>Konference veltīta klīniskās barošanas nozīmei mūsdienu pacientu aprūpē\, apvienojot ārstus\, māsas\, akadēmisko vidi un nozares partnerus kopīgai diskusijai par praksi\, inovācijām un sistēmisku sadarbību Latvijā.<br /><br /><a href="https://www.laspen.lv/">Vairāk informācijas</a></p>
LOCATION:LU Dabas māja\, Magnum auditorija\, Jelgavas iela 1\, Rīga
END:VEVENT

END:VCALENDAR